BEGIN:VCALENDAR
VERSION:2.0
PRODID:-//Contratero//ES
CALSCALE:GREGORIAN
METHOD:PUBLISH
BEGIN:VEVENT
UID:SE 224/25@contratero.es
DTSTAMP:20260426T004056Z
DTSTART:20250908T235959
DTEND:20250909T005959
SUMMARY:Cierre: Servicio de Asistencia Técnica para la Medición y 
DESCRIPTION:Servicio de Asistencia Técnica para la Medición y Analisis de Datos Turísticos\, como Base para la Predicción y la Estrategia de Promoción. Plan Turístico de Grandes Ciudades de Andalucía de la ciudad ...\\n\\nOrganismo: Junta de Gobierno del Ayuntamiento de Marbella\\n\\nVer en Contratero: https://contratero.es/contracts/SE 224/25
URL:https://contratero.es/contracts/SE 224/25
STATUS:CONFIRMED
BEGIN:VALARM
TRIGGER:-P1D
ACTION:DISPLAY
DESCRIPTION:Recordatorio: Servicio de Asistencia Técnica
END:VALARM
END:VEVENT
END:VCALENDAR